BEGIN:VCALENDAR
VERSION:2.0
PRODID:-//Westport Cultural Council - ECPv6.15.17.1//NONSGML v1.0//EN
CALSCALE:GREGORIAN
METHOD:PUBLISH
X-WR-CALNAME:Westport Cultural Council
X-ORIGINAL-URL:https://wptculturalcouncil.org
X-WR-CALDESC:Events for Westport Cultural Council
REFRESH-INTERVAL;VALUE=DURATION:PT1H
X-Robots-Tag:noindex
X-PUBLISHED-TTL:PT1H
BEGIN:VTIMEZONE
TZID:UTC
BEGIN:STANDARD
TZOFFSETFROM:+0000
TZOFFSETTO:+0000
TZNAME:UTC
DTSTART:20220101T000000
END:STANDARD
END:VTIMEZONE
BEGIN:VEVENT
DTSTART;TZID=UTC:20230706T180000
DTEND;TZID=UTC:20230706T200000
DTSTAMP:20260421T153010
CREATED:20230624T142506Z
LAST-MODIFIED:20230624T142506Z
UID:604-1688666400-1688673600@wptculturalcouncil.org
SUMMARY:Summer Concert Series
DESCRIPTION:
URL:https://wptculturalcouncil.org/events/summer-concert-series/
LOCATION:Westport Town Hall Annex\, 816 Main Rd\, Westport\, MA\, 02790\, United States
END:VEVENT
BEGIN:VEVENT
DTSTART;TZID=UTC:20230705T180000
DTEND;TZID=UTC:20230705T190000
DTSTAMP:20260421T153010
CREATED:20230310T163844Z
LAST-MODIFIED:20230310T163844Z
UID:375-1688580000-1688583600@wptculturalcouncil.org
SUMMARY:Cultural Council Monthly Board Meeting
DESCRIPTION:
URL:https://wptculturalcouncil.org/events/cultural-council-monthly-board-meeting-4/
LOCATION:Westport Town Hall Annex\, 816 Main Rd\, Westport\, MA\, 02790\, United States
END:VEVENT
BEGIN:VEVENT
DTSTART;TZID=UTC:20230624T200000
DTEND;TZID=UTC:20230624T220000
DTSTAMP:20260421T153010
CREATED:20230624T141507Z
LAST-MODIFIED:20230624T141507Z
UID:590-1687636800-1687644000@wptculturalcouncil.org
SUMMARY:Outdoor Movie Night
DESCRIPTION:
URL:https://wptculturalcouncil.org/events/outdoor-movie-night/
LOCATION:Westport Town Hall Annex\, 816 Main Rd\, Westport\, MA\, 02790\, United States
END:VEVENT
BEGIN:VEVENT
DTSTART;TZID=UTC:20230623T173000
DTEND;TZID=UTC:20230623T190000
DTSTAMP:20260421T153010
CREATED:20230606T180302Z
LAST-MODIFIED:20230606T180302Z
UID:485-1687541400-1687546800@wptculturalcouncil.org
SUMMARY:Meet the Writers & Photographers – Meditations on Landscape
DESCRIPTION:Reception & discussion with some of the participants in this year’s show.   Stop by for a chance to have more in-depth conversations with some of the writers and photographers from Meditations on Landscape II. There will be time for a Q & A.
URL:https://wptculturalcouncil.org/events/meet-the-writers-photographers-meditations-on-landscape/
LOCATION:Dedee Shattuck Gallery\, 1 Partners Lane\, Westport\, MA\, 02790\, United States
END:VEVENT
BEGIN:VEVENT
DTSTART;TZID=UTC:20230618T140000
DTEND;TZID=UTC:20230618T150000
DTSTAMP:20260421T153010
CREATED:20230606T175953Z
LAST-MODIFIED:20230606T175953Z
UID:483-1687096800-1687100400@wptculturalcouncil.org
SUMMARY:Learning Creativity: Cross Pollination among Genres
DESCRIPTION:Meditations on Landscape talk
URL:https://wptculturalcouncil.org/events/learning-creativity-cross-pollination-among-genres/
LOCATION:Dedee Shattuck Gallery\, 1 Partners Lane\, Westport\, MA\, 02790\, United States
END:VEVENT
BEGIN:VEVENT
DTSTART;TZID=UTC:20230616T170000
DTEND;TZID=UTC:20230616T190000
DTSTAMP:20260421T153010
CREATED:20230606T175527Z
LAST-MODIFIED:20230606T180037Z
UID:479-1686934800-1686942000@wptculturalcouncil.org
SUMMARY:Meditations on Landscape
DESCRIPTION:Opening night reception for Meditations on Landscape exhibition.
URL:https://wptculturalcouncil.org/events/meditations-on-landscape/
LOCATION:Dedee Shattuck Gallery\, 1 Partners Lane\, Westport\, MA\, 02790\, United States
END:VEVENT
BEGIN:VEVENT
DTSTART;TZID=UTC:20230607T180000
DTEND;TZID=UTC:20230607T190000
DTSTAMP:20260421T153010
CREATED:20230310T163737Z
LAST-MODIFIED:20230310T163737Z
UID:373-1686160800-1686164400@wptculturalcouncil.org
SUMMARY:Cultural Council Monthly Board Meeting
DESCRIPTION:
URL:https://wptculturalcouncil.org/events/cultural-council-monthly-board-meeting-3/
LOCATION:Westport Town Hall Annex\, 816 Main Rd\, Westport\, MA\, 02790\, United States
END:VEVENT
BEGIN:VEVENT
DTSTART;TZID=UTC:20230503T180000
DTEND;TZID=UTC:20230503T190000
DTSTAMP:20260421T153010
CREATED:20230310T163707Z
LAST-MODIFIED:20230310T163707Z
UID:371-1683136800-1683140400@wptculturalcouncil.org
SUMMARY:Cultural Council Monthly Board Meeting
DESCRIPTION:
URL:https://wptculturalcouncil.org/events/cultural-council-monthly-board-meeting-2/
LOCATION:Westport Town Hall Annex\, 816 Main Rd\, Westport\, MA\, 02790\, United States
END:VEVENT
BEGIN:VEVENT
DTSTART;TZID=UTC:20230405T180000
DTEND;TZID=UTC:20230405T190000
DTSTAMP:20260421T153010
CREATED:20230310T163626Z
LAST-MODIFIED:20230310T163626Z
UID:368-1680717600-1680721200@wptculturalcouncil.org
SUMMARY:Cultural Council Monthly Board Meeting
DESCRIPTION:
URL:https://wptculturalcouncil.org/events/cultural-council-monthly-board-meeting/
LOCATION:Westport Town Hall Annex\, 816 Main Rd\, Westport\, MA\, 02790\, United States
END:VEVENT
BEGIN:VEVENT
DTSTART;VALUE=DATE:20230317
DTEND;VALUE=DATE:20230318
DTSTAMP:20260421T153010
CREATED:20230308T131917Z
LAST-MODIFIED:20230310T161832Z
UID:348-1679011200-1679097599@wptculturalcouncil.org
SUMMARY:Helen E Ellis Grant Application Submissions Closes
DESCRIPTION:
URL:https://wptculturalcouncil.org/events/test/
END:VEVENT
END:VCALENDAR