BEGIN:VCALENDAR
VERSION:2.0
PRODID:-//Westport Cultural Council - ECPv6.15.17.1//NONSGML v1.0//EN
CALSCALE:GREGORIAN
METHOD:PUBLISH
X-WR-CALNAME:Westport Cultural Council
X-ORIGINAL-URL:https://wptculturalcouncil.org
X-WR-CALDESC:Events for Westport Cultural Council
REFRESH-INTERVAL;VALUE=DURATION:PT1H
X-Robots-Tag:noindex
X-PUBLISHED-TTL:PT1H
BEGIN:VTIMEZONE
TZID:UTC
BEGIN:STANDARD
TZOFFSETFROM:+0000
TZOFFSETTO:+0000
TZNAME:UTC
DTSTART:20220101T000000
END:STANDARD
END:VTIMEZONE
BEGIN:VEVENT
DTSTART;TZID=UTC:20230819T193000
DTEND;TZID=UTC:20230819T213000
DTSTAMP:20260420T225148
CREATED:20230624T142010Z
LAST-MODIFIED:20230624T142010Z
UID:597-1692473400-1692480600@wptculturalcouncil.org
SUMMARY:Outdoor Movie Night
DESCRIPTION:
URL:https://wptculturalcouncil.org/events/outdoor-movie-night-3/
LOCATION:Westport Town Hall Annex\, 816 Main Rd\, Westport\, MA\, 02790\, United States
END:VEVENT
BEGIN:VEVENT
DTSTART;TZID=UTC:20230817T180000
DTEND;TZID=UTC:20230817T200000
DTSTAMP:20260420T225148
CREATED:20230624T143038Z
LAST-MODIFIED:20230624T143038Z
UID:616-1692295200-1692302400@wptculturalcouncil.org
SUMMARY:Summer Concert Series
DESCRIPTION:
URL:https://wptculturalcouncil.org/events/summer-concert-series-7/
LOCATION:Westport Town Hall Annex\, 816 Main Rd\, Westport\, MA\, 02790\, United States
END:VEVENT
BEGIN:VEVENT
DTSTART;TZID=UTC:20230816T180000
DTEND;TZID=UTC:20230816T210000
DTSTAMP:20260420T225148
CREATED:20230310T162909Z
LAST-MODIFIED:20230622T200613Z
UID:363-1692208800-1692219600@wptculturalcouncil.org
SUMMARY:Film Series at Weatherlow Farms with the South Coast Artists - "Loving Vincent" 94 min.
DESCRIPTION:The world’s first fully painted feature film which tells the story of painter Vincent van Gogh’s dramatic life. Presented in conjunction with the South Coast Artists.
URL:https://wptculturalcouncil.org/events/film-series-at-weatherlow-farms-with-the-south-coast-artists-assoc/
LOCATION:Weatherlow Farms\, 845 Sodom Rd\, Westport\, MA\, 02790\, United States
END:VEVENT
BEGIN:VEVENT
DTSTART;TZID=UTC:20230810T180000
DTEND;TZID=UTC:20230810T200000
DTSTAMP:20260420T225148
CREATED:20230624T142937Z
LAST-MODIFIED:20230624T142937Z
UID:614-1691690400-1691697600@wptculturalcouncil.org
SUMMARY:Summer Concert Series
DESCRIPTION:
URL:https://wptculturalcouncil.org/events/summer-concert-series-6/
LOCATION:Westport Town Hall Annex\, 816 Main Rd\, Westport\, MA\, 02790\, United States
END:VEVENT
BEGIN:VEVENT
DTSTART;TZID=UTC:20230803T180000
DTEND;TZID=UTC:20230803T200000
DTSTAMP:20260420T225148
CREATED:20230624T142758Z
LAST-MODIFIED:20230624T142758Z
UID:612-1691085600-1691092800@wptculturalcouncil.org
SUMMARY:Summer Concert Series
DESCRIPTION:
URL:https://wptculturalcouncil.org/events/summer-concert-series-5/
LOCATION:Westport Town Hall Annex\, 816 Main Rd\, Westport\, MA\, 02790\, United States
END:VEVENT
BEGIN:VEVENT
DTSTART;TZID=UTC:20230802T180000
DTEND;TZID=UTC:20230802T210000
DTSTAMP:20260420T225148
CREATED:20230310T162755Z
LAST-MODIFIED:20230622T200518Z
UID:360-1690999200-1691010000@wptculturalcouncil.org
SUMMARY:Film Series at Weatherlow Farms - "The Weekend Sailor" 74 min.
DESCRIPTION:The thrilling story of one team’s unexpected victory in the first crewed sailing race around the world in 1974 and one of the most demanding sailing quests in history.
URL:https://wptculturalcouncil.org/events/film-series-at-weatherlow-farms-2/
LOCATION:Weatherlow Farms\, 845 Sodom Rd\, Westport\, MA\, 02790\, United States
END:VEVENT
BEGIN:VEVENT
DTSTART;TZID=UTC:20230727T180000
DTEND;TZID=UTC:20230727T200000
DTSTAMP:20260420T225148
CREATED:20230624T142709Z
LAST-MODIFIED:20230624T142709Z
UID:610-1690480800-1690488000@wptculturalcouncil.org
SUMMARY:Summer Concert Series
DESCRIPTION:
URL:https://wptculturalcouncil.org/events/summer-concert-series-4/
LOCATION:Westport Town Hall Annex\, 816 Main Rd\, Westport\, MA\, 02790\, United States
END:VEVENT
BEGIN:VEVENT
DTSTART;TZID=UTC:20230722T193000
DTEND;TZID=UTC:20230722T213000
DTSTAMP:20260420T225148
CREATED:20230624T141836Z
LAST-MODIFIED:20230624T141836Z
UID:595-1690054200-1690061400@wptculturalcouncil.org
SUMMARY:Outdoor Movie Night
DESCRIPTION:
URL:https://wptculturalcouncil.org/events/outdoor-movie-night-2/
LOCATION:Westport Town Hall Annex\, 816 Main Rd\, Westport\, MA\, 02790\, United States
END:VEVENT
BEGIN:VEVENT
DTSTART;TZID=UTC:20230720T180000
DTEND;TZID=UTC:20230720T200000
DTSTAMP:20260420T225148
CREATED:20230624T142626Z
LAST-MODIFIED:20230624T142626Z
UID:608-1689876000-1689883200@wptculturalcouncil.org
SUMMARY:Summer Concert Series
DESCRIPTION:
URL:https://wptculturalcouncil.org/events/summer-concert-series-3/
LOCATION:Westport Town Hall Annex\, 816 Main Rd\, Westport\, MA\, 02790\, United States
END:VEVENT
BEGIN:VEVENT
DTSTART;TZID=UTC:20230719T180000
DTEND;TZID=UTC:20230719T210000
DTSTAMP:20260420T225148
CREATED:20230310T162552Z
LAST-MODIFIED:20230622T200436Z
UID:356-1689789600-1689800400@wptculturalcouncil.org
SUMMARY:Film Series at Weatherlow Farms - "Root Hog or Die" 60 min.
DESCRIPTION:A year in the annual farming cycle in the hill towns of western Massachusetts and southern Vermont in 1973.
URL:https://wptculturalcouncil.org/events/film-series-at-weatherlow-farms/
LOCATION:Weatherlow Farms\, 845 Sodom Rd\, Westport\, MA\, 02790\, United States
END:VEVENT
BEGIN:VEVENT
DTSTART;TZID=UTC:20230713T180000
DTEND;TZID=UTC:20230713T200000
DTSTAMP:20260420T225148
CREATED:20230624T142542Z
LAST-MODIFIED:20230624T142542Z
UID:606-1689271200-1689278400@wptculturalcouncil.org
SUMMARY:Summer Concert Series
DESCRIPTION:
URL:https://wptculturalcouncil.org/events/summer-concert-series-2/
LOCATION:Westport Town Hall Annex\, 816 Main Rd\, Westport\, MA\, 02790\, United States
END:VEVENT
BEGIN:VEVENT
DTSTART;TZID=UTC:20230711T183000
DTEND;TZID=UTC:20230711T193000
DTSTAMP:20260420T225148
CREATED:20230629T213503Z
LAST-MODIFIED:20230629T213503Z
UID:626-1689100200-1689103800@wptculturalcouncil.org
SUMMARY:Candida Rose & The KabuJazz Ensemble
DESCRIPTION:
URL:https://wptculturalcouncil.org/events/candida-rose-the-kabujazz-ensemble/
LOCATION:Westport Town Hall Annex\, 816 Main Rd\, Westport\, MA\, 02790\, United States
END:VEVENT
BEGIN:VEVENT
DTSTART;TZID=UTC:20230706T180000
DTEND;TZID=UTC:20230706T200000
DTSTAMP:20260420T225148
CREATED:20230624T142506Z
LAST-MODIFIED:20230624T142506Z
UID:604-1688666400-1688673600@wptculturalcouncil.org
SUMMARY:Summer Concert Series
DESCRIPTION:
URL:https://wptculturalcouncil.org/events/summer-concert-series/
LOCATION:Westport Town Hall Annex\, 816 Main Rd\, Westport\, MA\, 02790\, United States
END:VEVENT
BEGIN:VEVENT
DTSTART;TZID=UTC:20230705T180000
DTEND;TZID=UTC:20230705T190000
DTSTAMP:20260420T225148
CREATED:20230310T163844Z
LAST-MODIFIED:20230310T163844Z
UID:375-1688580000-1688583600@wptculturalcouncil.org
SUMMARY:Cultural Council Monthly Board Meeting
DESCRIPTION:
URL:https://wptculturalcouncil.org/events/cultural-council-monthly-board-meeting-4/
LOCATION:Westport Town Hall Annex\, 816 Main Rd\, Westport\, MA\, 02790\, United States
END:VEVENT
BEGIN:VEVENT
DTSTART;TZID=UTC:20230624T200000
DTEND;TZID=UTC:20230624T220000
DTSTAMP:20260420T225148
CREATED:20230624T141507Z
LAST-MODIFIED:20230624T141507Z
UID:590-1687636800-1687644000@wptculturalcouncil.org
SUMMARY:Outdoor Movie Night
DESCRIPTION:
URL:https://wptculturalcouncil.org/events/outdoor-movie-night/
LOCATION:Westport Town Hall Annex\, 816 Main Rd\, Westport\, MA\, 02790\, United States
END:VEVENT
BEGIN:VEVENT
DTSTART;TZID=UTC:20230623T173000
DTEND;TZID=UTC:20230623T190000
DTSTAMP:20260420T225148
CREATED:20230606T180302Z
LAST-MODIFIED:20230606T180302Z
UID:485-1687541400-1687546800@wptculturalcouncil.org
SUMMARY:Meet the Writers & Photographers – Meditations on Landscape
DESCRIPTION:Reception & discussion with some of the participants in this year’s show.   Stop by for a chance to have more in-depth conversations with some of the writers and photographers from Meditations on Landscape II. There will be time for a Q & A.
URL:https://wptculturalcouncil.org/events/meet-the-writers-photographers-meditations-on-landscape/
LOCATION:Dedee Shattuck Gallery\, 1 Partners Lane\, Westport\, MA\, 02790\, United States
END:VEVENT
BEGIN:VEVENT
DTSTART;TZID=UTC:20230618T140000
DTEND;TZID=UTC:20230618T150000
DTSTAMP:20260420T225148
CREATED:20230606T175953Z
LAST-MODIFIED:20230606T175953Z
UID:483-1687096800-1687100400@wptculturalcouncil.org
SUMMARY:Learning Creativity: Cross Pollination among Genres
DESCRIPTION:Meditations on Landscape talk
URL:https://wptculturalcouncil.org/events/learning-creativity-cross-pollination-among-genres/
LOCATION:Dedee Shattuck Gallery\, 1 Partners Lane\, Westport\, MA\, 02790\, United States
END:VEVENT
BEGIN:VEVENT
DTSTART;TZID=UTC:20230616T170000
DTEND;TZID=UTC:20230616T190000
DTSTAMP:20260420T225148
CREATED:20230606T175527Z
LAST-MODIFIED:20230606T180037Z
UID:479-1686934800-1686942000@wptculturalcouncil.org
SUMMARY:Meditations on Landscape
DESCRIPTION:Opening night reception for Meditations on Landscape exhibition.
URL:https://wptculturalcouncil.org/events/meditations-on-landscape/
LOCATION:Dedee Shattuck Gallery\, 1 Partners Lane\, Westport\, MA\, 02790\, United States
END:VEVENT
BEGIN:VEVENT
DTSTART;TZID=UTC:20230607T180000
DTEND;TZID=UTC:20230607T190000
DTSTAMP:20260420T225148
CREATED:20230310T163737Z
LAST-MODIFIED:20230310T163737Z
UID:373-1686160800-1686164400@wptculturalcouncil.org
SUMMARY:Cultural Council Monthly Board Meeting
DESCRIPTION:
URL:https://wptculturalcouncil.org/events/cultural-council-monthly-board-meeting-3/
LOCATION:Westport Town Hall Annex\, 816 Main Rd\, Westport\, MA\, 02790\, United States
END:VEVENT
BEGIN:VEVENT
DTSTART;TZID=UTC:20230503T180000
DTEND;TZID=UTC:20230503T190000
DTSTAMP:20260420T225148
CREATED:20230310T163707Z
LAST-MODIFIED:20230310T163707Z
UID:371-1683136800-1683140400@wptculturalcouncil.org
SUMMARY:Cultural Council Monthly Board Meeting
DESCRIPTION:
URL:https://wptculturalcouncil.org/events/cultural-council-monthly-board-meeting-2/
LOCATION:Westport Town Hall Annex\, 816 Main Rd\, Westport\, MA\, 02790\, United States
END:VEVENT
BEGIN:VEVENT
DTSTART;TZID=UTC:20230405T180000
DTEND;TZID=UTC:20230405T190000
DTSTAMP:20260420T225148
CREATED:20230310T163626Z
LAST-MODIFIED:20230310T163626Z
UID:368-1680717600-1680721200@wptculturalcouncil.org
SUMMARY:Cultural Council Monthly Board Meeting
DESCRIPTION:
URL:https://wptculturalcouncil.org/events/cultural-council-monthly-board-meeting/
LOCATION:Westport Town Hall Annex\, 816 Main Rd\, Westport\, MA\, 02790\, United States
END:VEVENT
BEGIN:VEVENT
DTSTART;VALUE=DATE:20230317
DTEND;VALUE=DATE:20230318
DTSTAMP:20260420T225148
CREATED:20230308T131917Z
LAST-MODIFIED:20230310T161832Z
UID:348-1679011200-1679097599@wptculturalcouncil.org
SUMMARY:Helen E Ellis Grant Application Submissions Closes
DESCRIPTION:
URL:https://wptculturalcouncil.org/events/test/
LOCATION:MA
END:VEVENT
END:VCALENDAR